BEGIN:VCALENDAR
VERSION:2.0
PRODID:-//Natura-Handwerk - ECPv6.15.20//NONSGML v1.0//EN
CALSCALE:GREGORIAN
METHOD:PUBLISH
X-ORIGINAL-URL:https://natura-handwerk.ch
X-WR-CALDESC:Veranstaltungen für Natura-Handwerk
REFRESH-INTERVAL;VALUE=DURATION:PT1H
X-Robots-Tag:noindex
X-PUBLISHED-TTL:PT1H
BEGIN:VTIMEZONE
TZID:Europe/Zurich
BEGIN:DAYLIGHT
TZOFFSETFROM:+0100
TZOFFSETTO:+0200
TZNAME:CEST
DTSTART:20250330T010000
END:DAYLIGHT
BEGIN:STANDARD
TZOFFSETFROM:+0200
TZOFFSETTO:+0100
TZNAME:CET
DTSTART:20251026T010000
END:STANDARD
BEGIN:DAYLIGHT
TZOFFSETFROM:+0100
TZOFFSETTO:+0200
TZNAME:CEST
DTSTART:20260329T010000
END:DAYLIGHT
BEGIN:STANDARD
TZOFFSETFROM:+0200
TZOFFSETTO:+0100
TZNAME:CET
DTSTART:20261025T010000
END:STANDARD
BEGIN:DAYLIGHT
TZOFFSETFROM:+0100
TZOFFSETTO:+0200
TZNAME:CEST
DTSTART:20270328T010000
END:DAYLIGHT
BEGIN:STANDARD
TZOFFSETFROM:+0200
TZOFFSETTO:+0100
TZNAME:CET
DTSTART:20271031T010000
END:STANDARD
END:VTIMEZONE
BEGIN:VEVENT
DTSTART;VALUE=DATE:20260914
DTEND;VALUE=DATE:20260915
DTSTAMP:20260425T010214
CREATED:20240221T093547Z
LAST-MODIFIED:20260105T154742Z
UID:15648-1789344000-1789430399@natura-handwerk.ch
SUMMARY:Spiez-Märit
DESCRIPTION:Schlendern Sie gemütlich durch die Marktstände im Dorf und probieren Sie lokale Spezialitäten. \nWeit über 100 Markt- und Verpflegungsstände verwandeln das Spiezer Dorfzentrum in einen lebendigen Markt. Der Spiez Märit lockt jährlich zahlreiche Besucherinnen  und Besucher aus Nah und Fern sowie viele “Heimwehspiezer” an. Man trifft sich auf einen Schwatz\, tauscht Erinnerungen und Erlebnisse aus und deckt sich bei den unterschiedlichen Marktständen mit vielfältigen Produkten ein. \nAuch wir sind wieder vor Ort und bieten jede Menge zu sehen und kaufen.
URL:https://natura-handwerk.ch/veranstaltung/spiez-maerit-2024/
LOCATION:Spiez\, Dorf\, Spiez\, Bern\, 3700\, Schweiz
CATEGORIES:Märit
ATTACH;FMTTYPE=image/jpeg:https://natura-handwerk.ch/wp-content/uploads/2022/04/Spiezmaerit.jpg
ORGANIZER;CN="Verein Spiezer L%C3%A4set Sunntig":MAILTO:info@laeset-spiez.ch
END:VEVENT
BEGIN:VEVENT
DTSTART;VALUE=DATE:20260926
DTEND;VALUE=DATE:20260927
DTSTAMP:20260425T010214
CREATED:20240221T101743Z
LAST-MODIFIED:20260105T155357Z
UID:15652-1790380800-1790467199@natura-handwerk.ch
SUMMARY:Turtmann Püru-märt
DESCRIPTION:Der Püru-Märt Cultura Turtmann findet jedes Jahr am letzten September Samstag statt. Turtmann liegt zwischen Gampel und Susten und ist mit dem Auto wie auch mit dem Zug sehr gut erreichbar. Jedes Jahr stellen zahlreiche Marktfahrer ihre Waren in Turtmann aus. Von Kleidern bis hin zu selbst gemachten Waren über Kinderspielwaren findet man in Turtmann alles. Die Weinkellereien welche entlang der Markt Route stehen\, verköstigen Sie sehr gerne mit einem guten Tropfen Wein\, während Sie mit Kollegen über Gott und die Welt reden. Nicht zu vergessen alle Vereine und Restaurateure welche für Ihr Wohlbefinden sorgen. \nDie Kinderwelt mit Ihren zahlreichen Fahrgeschäften\, dem Kinder Tattoo Malen und dem Airbrush malen kommt bei den Kindern immer sehr gut an. \nAber was ist ein Püru-Märt ohne Tiere. Genau richtig\, kein Püru-Märt. Darum haben wir jedes Jahr viele verschiedene Tierrassen mit von der Partie. \nWir zeigen vor Ort wie Teppiche auf dem Handwebstuhl gewoben werden\, sowie zeigen wir\, wie aus Wolle auf dem traditionellen Spinnrad Garn wird.
URL:https://natura-handwerk.ch/veranstaltung/turtmann-pueru-maert-2/
LOCATION:Turtmann\, Dorfzentrum\, Turtmann\, Wallis\, 3946\, Schweiz
CATEGORIES:Märit
ATTACH;FMTTYPE=image/jpeg:https://natura-handwerk.ch/wp-content/uploads/2023/07/turtmann-markt.jpg
END:VEVENT
BEGIN:VEVENT
DTSTART;VALUE=DATE:20261007
DTEND;VALUE=DATE:20261008
DTSTAMP:20260425T010214
CREATED:20240221T100116Z
LAST-MODIFIED:20260105T154830Z
UID:15650-1791331200-1791417599@natura-handwerk.ch
SUMMARY:Wattenwil-Märit
DESCRIPTION:Der Wattenwil-Märit ist ein traditioneller Anlass und findet seit Jahren jeweils am ersten Mittwoch im Oktober statt. Rund 190 Marktfahrerinnen und Marktfahrer bieten im Herzen von Wattenwil die verschiedensten Waren zum Verkauf an. Zudem laden verschiedene Vereine zu einem gemütlichen Verweilen bis tief in die Nacht hinein ein. Der Wattenwil-Märit ist bis weit über die Gemeindegrenzen hinaus bekannt und viele Heimweh-Wattenwiler kehren jeweils am ersten Mittwoch im Oktober nach Wattenwil zurück. \nWattenwil Märit\nStart: 08:00 Uhr\nEnde: 03:30 Uhr\nAb 11:00 Uhr Festwirtschaft\nDer Jodlerklub singt um 13:00 und 14:30 Uhr.\nAb 20:00 Uhr übernimmt der Turnverein den Festbetrieb.
URL:https://natura-handwerk.ch/veranstaltung/wattenwil-maerit-3/
LOCATION:Wattenwil\, Dorfzentrum\, Wattenwil\, Bern\, 3665\, Schweiz
CATEGORIES:Märit
ATTACH;FMTTYPE=image/jpeg:https://natura-handwerk.ch/wp-content/uploads/2023/07/wattenwil-21.jpg
END:VEVENT
BEGIN:VEVENT
DTSTART;VALUE=DATE:20261008
DTEND;VALUE=DATE:20261019
DTSTAMP:20260425T010214
CREATED:20240221T145336Z
LAST-MODIFIED:20260105T155041Z
UID:15672-1791417600-1792367999@natura-handwerk.ch
SUMMARY:OLMA
DESCRIPTION:Die grösste und beliebteste Publikumsmesse der Schweiz lädt vom 8. bis 18. Oktober 2026 zum 83. Mal zu einem farbenfrohen Volksfest ein. Wir freuen uns bereits jetzt auf abwechslungsreiche und spannende elf Messetage.
URL:https://natura-handwerk.ch/veranstaltung/olma-2024/
LOCATION:St.Gallen\, Splügenstrasse 12\, St.Gallen\, St. Gallen\, 9008\, Schweiz
CATEGORIES:Ausstellung
ATTACH;FMTTYPE=image/jpeg:https://natura-handwerk.ch/wp-content/uploads/2024/02/OLMA-2024.jpg
ORGANIZER;CN="Olma":MAILTO:olma@olma-messen.ch
END:VEVENT
BEGIN:VEVENT
DTSTART;VALUE=DATE:20261030
DTEND;VALUE=DATE:20261031
DTSTAMP:20260425T010214
CREATED:20240220T203114Z
LAST-MODIFIED:20260105T155248Z
UID:15628-1793318400-1793404799@natura-handwerk.ch
SUMMARY:Frutigmärit
DESCRIPTION:Stehts am letzten Freitag im Oktober findet der traditionelle Frutigmärit statt. Dieser wird vom Handwerker – und Gewerbeverein organisiert. Viele Stände schmücken an diesem Tag die Dorfstrasse mitten in Frutigen.
URL:https://natura-handwerk.ch/veranstaltung/frutigmaerit-2024/
LOCATION:Frutigen\, Flugplatz\, Frutigen\, Bern\, 3714\, Schweiz
CATEGORIES:Märit
ATTACH;FMTTYPE=image/jpeg:https://natura-handwerk.ch/wp-content/uploads/2023/07/Turtmann-2-2021.jpg
END:VEVENT
BEGIN:VEVENT
DTSTART;VALUE=DATE:20261105
DTEND;VALUE=DATE:20261109
DTSTAMP:20260425T010214
CREATED:20240221T144030Z
LAST-MODIFIED:20260105T155123Z
UID:15658-1793836800-1794182399@natura-handwerk.ch
SUMMARY:Neuland
DESCRIPTION:Immer wieder ein Highlight\, DIE Ausstellung im Berner Oberland in Thun auf dem Expo- Gelände. \nMit Show-spinnen und Show-weben.
URL:https://natura-handwerk.ch/veranstaltung/neuland-5/
LOCATION:Thun Expo
CATEGORIES:Ausstellung
ATTACH;FMTTYPE=image/jpeg:https://natura-handwerk.ch/wp-content/uploads/2024/02/Neuland-2024.jpg
ORGANIZER;CN="Neuland":MAILTO:info@thun-expo.ch
END:VEVENT
END:VCALENDAR