BEGIN:VCALENDAR
VERSION:2.0
PRODID:-//Natura-Handwerk - ECPv6.15.20//NONSGML v1.0//EN
CALSCALE:GREGORIAN
METHOD:PUBLISH
X-ORIGINAL-URL:https://natura-handwerk.ch
X-WR-CALDESC:Veranstaltungen für Natura-Handwerk
REFRESH-INTERVAL;VALUE=DURATION:PT1H
X-Robots-Tag:noindex
X-PUBLISHED-TTL:PT1H
BEGIN:VTIMEZONE
TZID:Europe/Zurich
BEGIN:DAYLIGHT
TZOFFSETFROM:+0100
TZOFFSETTO:+0200
TZNAME:CEST
DTSTART:20220327T010000
END:DAYLIGHT
BEGIN:STANDARD
TZOFFSETFROM:+0200
TZOFFSETTO:+0100
TZNAME:CET
DTSTART:20221030T010000
END:STANDARD
BEGIN:DAYLIGHT
TZOFFSETFROM:+0100
TZOFFSETTO:+0200
TZNAME:CEST
DTSTART:20230326T010000
END:DAYLIGHT
BEGIN:STANDARD
TZOFFSETFROM:+0200
TZOFFSETTO:+0100
TZNAME:CET
DTSTART:20231029T010000
END:STANDARD
BEGIN:DAYLIGHT
TZOFFSETFROM:+0100
TZOFFSETTO:+0200
TZNAME:CEST
DTSTART:20240331T010000
END:DAYLIGHT
BEGIN:STANDARD
TZOFFSETFROM:+0200
TZOFFSETTO:+0100
TZNAME:CET
DTSTART:20241027T010000
END:STANDARD
BEGIN:DAYLIGHT
TZOFFSETFROM:+0100
TZOFFSETTO:+0200
TZNAME:CEST
DTSTART:20250330T010000
END:DAYLIGHT
BEGIN:STANDARD
TZOFFSETFROM:+0200
TZOFFSETTO:+0100
TZNAME:CET
DTSTART:20251026T010000
END:STANDARD
BEGIN:DAYLIGHT
TZOFFSETFROM:+0100
TZOFFSETTO:+0200
TZNAME:CEST
DTSTART:20260329T010000
END:DAYLIGHT
BEGIN:STANDARD
TZOFFSETFROM:+0200
TZOFFSETTO:+0100
TZNAME:CET
DTSTART:20261025T010000
END:STANDARD
BEGIN:DAYLIGHT
TZOFFSETFROM:+0100
TZOFFSETTO:+0200
TZNAME:CEST
DTSTART:20270328T010000
END:DAYLIGHT
BEGIN:STANDARD
TZOFFSETFROM:+0200
TZOFFSETTO:+0100
TZNAME:CET
DTSTART:20271031T010000
END:STANDARD
END:VTIMEZONE
BEGIN:VEVENT
DTSTART;TZID=Europe/Zurich:20260418T133000
DTEND;TZID=Europe/Zurich:20260418T170000
DTSTAMP:20260424T212933
CREATED:20260216T132439Z
LAST-MODIFIED:20260216T133322Z
UID:20990-1776519000-1776531600@natura-handwerk.ch
SUMMARY:Kurs Nadelfilzen
DESCRIPTION:Datum: Samstag\, 18. April 2026 13.30 Uhr – 17.00 Uhr \nOrt: Natura-Handwerk\, Uebeschi bei Thun \nKosten: Fr. 60.- + Material \nWir verzieren mit der Filznadel von Hand Zier-\, Wander-\, Sitzkissen\, Pfannenuntersetzer\, usw. \nAnschliessend werden die Arbeiten auf unserer  Filzmaschine verfestigt. \nAnmeldungen bis 4. April an Monika Boss. Endorfstrasse 49.3655 Sigriswil \nPer Mail  mgboss@bluewin.ch \nper Telefon oder Watsap 079 332 45 56 \nDieser Kurs wird vom Ehemaligenverein Haushaltungsschule Hondrich-Brienz organisiert\, Mitglieder des Vereins erhalten 5.- Vergünstigung.
URL:https://natura-handwerk.ch/veranstaltung/kurs-nadelfilzen/
LOCATION:Berner Oberland
CATEGORIES:Kurse
ATTACH;FMTTYPE=image/jpeg:https://natura-handwerk.ch/wp-content/uploads/2026/02/filzkissen-Kinder-2024_replaced_bg.jpg
END:VEVENT
BEGIN:VEVENT
DTSTART;VALUE=DATE:20260321
DTEND;VALUE=DATE:20260323
DTSTAMP:20260424T212933
CREATED:20231231T151235Z
LAST-MODIFIED:20260319T095330Z
UID:15311-1774051200-1774223999@natura-handwerk.ch
SUMMARY:Alpakashow Bern in Schüpbach
DESCRIPTION:„Eine öffentliche Alpaka-Schau für Interessierte\, Alpakahalter und welche es noch werden möchten sich von Alpakas verzaubern zu lassen.“
URL:https://natura-handwerk.ch/veranstaltung/alpakashow-schuepbach-be/
LOCATION:Schüpach\, Hübelischachen 45N\, Schüpach\, Bern\, 3535
CATEGORIES:Ausstellung
ATTACH;FMTTYPE=image/jpeg:https://natura-handwerk.ch/wp-content/uploads/2023/12/alpakashow-schuepach-2026-rotated.jpg
END:VEVENT
BEGIN:VEVENT
DTSTART;TZID=Europe/Zurich:20260320T100000
DTEND;TZID=Europe/Zurich:20260328T170000
DTSTAMP:20260424T212933
CREATED:20251009T091947Z
LAST-MODIFIED:20260112T181445Z
UID:19281-1774000800-1774717200@natura-handwerk.ch
SUMMARY:Tage der offenen Tür in Uebeschi vom 20. - 28. März 2026
DESCRIPTION:Wir laden wieder zu unseren Tagen der offenen Tür in Uebeschi ein und zeigen\, wie die verschiedenen Maschinen funktionieren und welche Produkte wir mit unserem großen Maschinenpark herstellen können. \nAuch unser Laden ist während diesen Zeiten offen. Die Gantrisch Wollkarderei Bonauer mit ihren Relax-Betten ist wieder zu Gast bei uns. \nNatürlich haben wir auch jede Menge Bauernhoftiere wie Kühe\, Kälber\, Hühner und Katzen\, aber auch etwas untypische Tiere wie Tauben\, Truten\, Lamas\, Alpakas\, Esel & Zwergziegen.
URL:https://natura-handwerk.ch/veranstaltung/tage-der-offenen-tuer-2/
LOCATION:Uebeschi bei Thun\, Lischen 75a\, Uebeschi\, Berner Oberland\, 3635\, Schweiz
CATEGORIES:Ausstellung
ATTACH;FMTTYPE=image/jpeg:https://natura-handwerk.ch/wp-content/uploads/2025/05/DSC4868-scaled.jpg
ORGANIZER;CN="Natura-Handwerk":MAILTO:info@natura-handwerk.ch
END:VEVENT
BEGIN:VEVENT
DTSTART;VALUE=DATE:20260228
DTEND;VALUE=DATE:20260302
DTSTAMP:20260424T212933
CREATED:20180111T113528Z
LAST-MODIFIED:20260105T153918Z
UID:1185-1772236800-1772409599@natura-handwerk.ch
SUMMARY:Alpakashow Uster
DESCRIPTION:
URL:https://natura-handwerk.ch/veranstaltung/alpakashow-uster/
LOCATION:Reithalle Buchholz
CATEGORIES:Ausstellung
ATTACH;FMTTYPE=image/jpeg:https://natura-handwerk.ch/wp-content/uploads/2018/01/alpaka-show-2025.jpg
END:VEVENT
BEGIN:VEVENT
DTSTART;TZID=Europe/Zurich:20260131T140000
DTEND;TZID=Europe/Zurich:20260131T170000
DTSTAMP:20260424T212933
CREATED:20250127T164701Z
LAST-MODIFIED:20260105T154235Z
UID:17940-1769868000-1769878800@natura-handwerk.ch
SUMMARY:Neu! Strick-\, Häckel-\, & Spinntreff jeden letzten Samstag im Monat
DESCRIPTION:Am Samstag\, 31.Januar 2026 findet das nächste Treffen statt. Weitere jeden letzten Samstag im Monat. Bei Kaffee und Kuchen können Tips und Tricks ausgetauscht werden. \nLeitung: Karin Näf \nAnmeldung erwünscht. \nTeilnahme ist kostenlos. \nSpinnräder vorhanden\, eigenes kann aber auch mitgebracht werden.
URL:https://natura-handwerk.ch/veranstaltung/neu-strick-haeckel-spinntreff-jeden-letzten-samstag-im-monat/
LOCATION:Uebeschi bei Thun\, Lischen 75a\, Uebeschi\, Berner Oberland\, 3635\, Schweiz
CATEGORIES:Treff
ATTACH;FMTTYPE=image/jpeg:https://natura-handwerk.ch/wp-content/uploads/2025/01/WhatsApp-Image-2025-01-25-at-20.03.41.jpeg
ORGANIZER;CN="Natura-Handwerk":MAILTO:info@natura-handwerk.ch
END:VEVENT
BEGIN:VEVENT
DTSTART;TZID=Europe/Zurich:20251206T080000
DTEND;TZID=Europe/Zurich:20251207T170000
DTSTAMP:20260424T212933
CREATED:20241101T190540Z
LAST-MODIFIED:20250127T174955Z
UID:17179-1765008000-1765126800@natura-handwerk.ch
SUMMARY:Weihnachtsmärit auf dem Schloss Köniz 2025
DESCRIPTION:
URL:https://natura-handwerk.ch/veranstaltung/weihnachtsmaerit-auf-dem-schloss-koeniz/
LOCATION:Schloss Köniz
CATEGORIES:Märit
ATTACH;FMTTYPE=image/jpeg:https://natura-handwerk.ch/wp-content/uploads/2020/09/Koeniz.jpg
END:VEVENT
BEGIN:VEVENT
DTSTART;TZID=Europe/Zurich:20251205T110000
DTEND;TZID=Europe/Zurich:20251223T200000
DTSTAMP:20260424T212933
CREATED:20241101T174938Z
LAST-MODIFIED:20251217T192116Z
UID:17177-1764932400-1766520000@natura-handwerk.ch
SUMMARY:Weihnachtsmärit Thun 2025
DESCRIPTION:
URL:https://natura-handwerk.ch/veranstaltung/weihnachtsmaerit-thun/
LOCATION:Thun Weisenhausplatz\, Bälliz\, Thun\, 3600\, Schweiz
CATEGORIES:Märit
ATTACH;FMTTYPE=image/jpeg:https://natura-handwerk.ch/wp-content/uploads/2024/11/Weihnachtsmaerit-2025.jpg
END:VEVENT
BEGIN:VEVENT
DTSTART;TZID=Europe/Zurich:20251128T100000
DTEND;TZID=Europe/Zurich:20251129T170000
DTSTAMP:20260424T212933
CREATED:20251016T075553Z
LAST-MODIFIED:20251016T075629Z
UID:19410-1764324000-1764435600@natura-handwerk.ch
SUMMARY:Wollverarbeitungskurs Freitag / Spinnkurs Samstag
DESCRIPTION:
URL:https://natura-handwerk.ch/veranstaltung/wollverarbeitungskurs/
LOCATION:Uebeschi bei Thun\, Lischen 75a\, Uebeschi\, Berner Oberland\, 3635\, Schweiz
CATEGORIES:Kurse
END:VEVENT
BEGIN:VEVENT
DTSTART;TZID=Europe/Zurich:20251122T110000
DTEND;TZID=Europe/Zurich:20251122T170000
DTSTAMP:20260424T212933
CREATED:20250505T093127Z
LAST-MODIFIED:20250505T093312Z
UID:18606-1763809200-1763830800@natura-handwerk.ch
SUMMARY:Basar der Kirchgemeinde Amsoldingen
DESCRIPTION:
URL:https://natura-handwerk.ch/veranstaltung/basar-der-kirchgemeinde-amsoldingen/
LOCATION:Amsoldingen\, Mehrzweckhalle
CATEGORIES:Märit
ATTACH;FMTTYPE=image/jpeg:https://natura-handwerk.ch/wp-content/uploads/2025/05/Basar-Amsoldingen.jpg
END:VEVENT
BEGIN:VEVENT
DTSTART;TZID=Europe/Zurich:20251122T100000
DTEND;TZID=Europe/Zurich:20251122T170000
DTSTAMP:20260424T212933
CREATED:20241101T174605Z
LAST-MODIFIED:20250821T054743Z
UID:17172-1763805600-1763830800@natura-handwerk.ch
SUMMARY:Adventsmärit Riggisberg
DESCRIPTION:
URL:https://natura-handwerk.ch/veranstaltung/adventsmaerit-riggisberg/
LOCATION:Riggisberg
CATEGORIES:Märit
ATTACH;FMTTYPE=image/jpeg:https://natura-handwerk.ch/wp-content/uploads/2023/07/Turtmann-2-2021.jpg
END:VEVENT
BEGIN:VEVENT
DTSTART;TZID=Europe/Zurich:20250906T100000
DTEND;TZID=Europe/Zurich:20250906T150000
DTSTAMP:20260424T212933
CREATED:20250815T094128Z
LAST-MODIFIED:20250815T094128Z
UID:19031-1757152800-1757170800@natura-handwerk.ch
SUMMARY:Herbscht-Märit Spital und Altersheim Belp
DESCRIPTION:18 bunte Marktstände\, sowie verschiedene Attraktionen findet ihr an diesem Tag auf unserem Areal: \n11.00  Uhr : Tanz mit der Kindertanz- und Trachtengruppe Belp \n13.00 bis 15.oo Uhr mit Pausen: Live Musik Fröhlechi Surnible (Örgeli und Bassgeige) \n14.00 Uhr: Taubenflug \nAusserdem: \n\nHausgemachtes aus unserer Küche: Pizza\,Bratwurst und leckere Pommes\nFeine Glace von der Gelato Boutique Belp\nKinderzeichnen “ Mal deinen Markt\, wie es dir gefällt! „\n“ Kleine Vögel\, bunte Welt“ Vögel entdecken in der Voliere\nGlücksrad drehen\n\nWir freuen uns auf sie! \nFindet bei jeder Witterung statt!
URL:https://natura-handwerk.ch/veranstaltung/herbscht-maerit-spital-und-altersheim-belp/
LOCATION:Spital und Altersheim\, Seftigenstrasse 89-91\, Belp\, Bern\, 3121\, Switzerland
CATEGORIES:Märit
ATTACH;FMTTYPE=image/jpeg:https://natura-handwerk.ch/wp-content/uploads/2025/08/Herbst-Maerit-Belp-2025.jpg
END:VEVENT
BEGIN:VEVENT
DTSTART;TZID=Europe/Zurich:20250404T100000
DTEND;TZID=Europe/Zurich:20250412T170000
DTSTAMP:20260424T212933
CREATED:20241129T072553Z
LAST-MODIFIED:20250127T164422Z
UID:17406-1743760800-1744477200@natura-handwerk.ch
SUMMARY:Tage der offenen Tür
DESCRIPTION:Mit dabei: \nGantrisch Wollkarderei Bonauer mit Relax 2000 Arvenbetten \nhttps://www.karderei.ch \n  \nGeöffnet:  täglich 10 bis 17 Uhr \n  \n10 %  Sonderrabatt auf alles ausser reduzierte Ware.
URL:https://natura-handwerk.ch/veranstaltung/tage-der-offenen-tuer/
LOCATION:Uebeschi bei Thun\, Lischen 75a\, Uebeschi\, Berner Oberland\, 3635\, Schweiz
CATEGORIES:Ausstellung
ATTACH;FMTTYPE=image/jpeg:https://natura-handwerk.ch/wp-content/uploads/2020/04/Ausstellungsraum-Hauptraum-small-2-scaled.jpg
ORGANIZER;CN="Natura-Handwerk":MAILTO:info@natura-handwerk.ch
END:VEVENT
BEGIN:VEVENT
DTSTART;TZID=Europe/Zurich:20250222T140000
DTEND;TZID=Europe/Zurich:20250222T170000
DTSTAMP:20260424T212933
CREATED:20250112T144918Z
LAST-MODIFIED:20250127T165041Z
UID:17826-1740232800-1740243600@natura-handwerk.ch
SUMMARY:Neu! Strick-\, Häckel-\, & Spinntreff jeden letzten Samstag im Monat
DESCRIPTION:Am Samstag\, 22. Februar 2025 findet das zweite Treffen statt. Weitere jeden letzten Samstag im Monat. Bei Kaffee und Kuchen können Tips und Tricks ausgetauscht werden. \nLeitung: Karin Näf \nAnmeldung erwünscht. \nTeilnahme ist kostenlos. \nSpinnräder vorhanden\, eigenes kann aber auch mitgebracht werden.
URL:https://natura-handwerk.ch/veranstaltung/strick-haeckel-spinntreff/
LOCATION:Uebeschi bei Thun\, Lischen 75a\, Uebeschi\, Berner Oberland\, 3635\, Schweiz
CATEGORIES:Treff
ATTACH;FMTTYPE=image/jpeg:https://natura-handwerk.ch/wp-content/uploads/2025/01/WhatsApp-Image-2025-01-25-at-20.03.41.jpeg
ORGANIZER;CN="Natura-Handwerk":MAILTO:info@natura-handwerk.ch
END:VEVENT
BEGIN:VEVENT
DTSTART;TZID=Europe/Zurich:20250129T133000
DTEND;TZID=Europe/Zurich:20250129T170000
DTSTAMP:20260424T212933
CREATED:20250122T094319Z
LAST-MODIFIED:20250127T102520Z
UID:17886-1738157400-1738170000@natura-handwerk.ch
SUMMARY:Spinnkurs: es hat noch freie Plätze!
DESCRIPTION:Lernen sie ein altes Handwerk kennen. \nWir üben mit Schafwolle\, diese Technik kann aber danach auch mit Alpakawolle\, Hundehaar usw. angewendet werden. Es stehen verschiedene Spinnräder zur Verfügung\, Occasionen können auch gekauft werden. \nKursleiterin: Helene Wahba \nKosten: Fr. 60.- \nAnmelden unter : info@natura-handwerk.ch  oder   078 615 34 60
URL:https://natura-handwerk.ch/veranstaltung/spinnkurs/
LOCATION:Uebeschi bei Thun\, Lischen 75a\, Uebeschi\, Berner Oberland\, 3635\, Schweiz
CATEGORIES:Kurse
ATTACH;FMTTYPE=image/jpeg:https://natura-handwerk.ch/wp-content/uploads/2023/03/Helene__D754103.jpg
ORGANIZER;CN="Natura-Handwerk":MAILTO:info@natura-handwerk.ch
END:VEVENT
BEGIN:VEVENT
DTSTART;TZID=Europe/Zurich:20241208T090000
DTEND;TZID=Europe/Zurich:20241208T170000
DTSTAMP:20260424T212933
CREATED:20241101T190719Z
LAST-MODIFIED:20241101T190719Z
UID:17181-1733648400-1733677200@natura-handwerk.ch
SUMMARY:Weihnachtsmärit auf dem Schloss Köniz
DESCRIPTION:
URL:https://natura-handwerk.ch/veranstaltung/weihnachtsmaerit-auf-dem-schloss-koeniz-2/
LOCATION:Schloss Köniz
CATEGORIES:Märit
ATTACH;FMTTYPE=image/jpeg:https://natura-handwerk.ch/wp-content/uploads/2020/09/Koeniz.jpg
END:VEVENT
BEGIN:VEVENT
DTSTART;TZID=Europe/Zurich:20240831T100000
DTEND;TZID=Europe/Zurich:20240907T170000
DTSTAMP:20260424T212933
CREATED:20240221T145752Z
LAST-MODIFIED:20240716T131923Z
UID:15676-1725098400-1725728400@natura-handwerk.ch
SUMMARY:Tage der offenen Tür 2024
DESCRIPTION:Wir laden wieder zu unseren Tagen der offenen Tür in Uebeschi ein und zeigen\, wie die verschiedenen Maschinen funktionieren und welche Produkte wir mit unserem großen Maschinenpark herstellen können. Für Kinder steht ein großes Trampolin und viel Platz zum Austoben bereit. \nNatürlich haben wir auch jede Menge Bauernhoftiere wie Kühe\, Kälber\, Hühner und Katzen\, aber auch etwas untypische Tiere wie Tauben\, Truten\, Lamas\, Alpakas\, Esel & Zwergziegen. \nWährend den anderen Tagen ist es auch möglich\, die Produktion und Ausstellungen zu besuchen. Auch unser Laden ist während diesen Zeiten offen. Auch die Gantrisch Wollkarderei Bonauer mit ihren Relax-Betten ist wieder zu Gast bei uns.
URL:https://natura-handwerk.ch/veranstaltung/tage-der-offenen-tuer-2024/
LOCATION:Uebeschi bei Thun\, Lischen 75a\, Uebeschi\, Berner Oberland\, 3635\, Schweiz
CATEGORIES:Ausstellung
ATTACH;FMTTYPE=image/jpeg:https://natura-handwerk.ch/wp-content/uploads/2024/02/Ausstellung-Tag-der-offenen-Tuer_2024-full-hd.jpg
ORGANIZER;CN="Natura-Handwerk":MAILTO:info@natura-handwerk.ch
END:VEVENT
BEGIN:VEVENT
DTSTART;TZID=Europe/Zurich:20240821T100000
DTEND;TZID=Europe/Zurich:20240821T170000
DTSTAMP:20260424T212933
CREATED:20240221T093024Z
LAST-MODIFIED:20240603T134602Z
UID:15644-1724234400-1724259600@natura-handwerk.ch
SUMMARY:Färben mit Wildpflanzen
DESCRIPTION:Das Bedürfnis des Menschen\, sich mit Farben zu umgeben\, ist uralt. Schon 2500 v. Chr. wurden in Ägypten Pflanzen eingesetzt um Gewebe zu färben. \nAber welche Pflanzen eignen sich dazu\, welche Teile werden verwendet und wann werden sie geerntet? Färbstoffe schlummern in vielen Pflanzen\, ohne dass es auf den ersten Blick sichtbar ist. Es sind nämlich meist nicht die bunten Blüten\, die wir zum Färben verwenden\, sondern Wurzeln\, Rinden\, Blätter oder Stiele. \nWir zeigen dir einige Varianten\, wie du Wolle und Stoffe mit natürlichen Farben versehen kannst und wie sie lichtecht\, waschecht und reibecht werden. Wir bereiten Stoffbezüge für Duftsäckli und kleine Kissen vor\, wenn du willst\, kannst du auch selbst etwas mitbringen zum Färben. \nIn der Mittagspause wirst du mit einem schönen Wildkräuterbuffet  verwöhnt\, es wird einiges dabei sein\, das wir auch zum Färben nehmen.
URL:https://natura-handwerk.ch/veranstaltung/faerben-mit-wildpflanzen-2/
LOCATION:Bahnstrasse 42 3008 Bern\, Bahnstrasse 42\, Bern\, Bern\, 3008
ATTACH;FMTTYPE=image/jpeg:https://natura-handwerk.ch/wp-content/uploads/2024/02/Faerbkurs-1.-Juni-2024.jpg
END:VEVENT
BEGIN:VEVENT
DTSTART;VALUE=DATE:20240601
DTEND;VALUE=DATE:20240602
DTSTAMP:20260424T212933
CREATED:20240208T162857Z
LAST-MODIFIED:20240530T052559Z
UID:15582-1717200000-1717286399@natura-handwerk.ch
SUMMARY:Färben mit Wildpflanzen
DESCRIPTION:Färben mit Wildpflanzen\n\nDas Bedürfnis des Menschen\, sich mit Farben zu umgeben\, ist uralt. Schon 2500 v. Chr. wurden in Ägypten Pflanzen eingesetzt um Gewebe zu färben. \nAber welche Pflanzen eignen sich dazu\, welche Teile werden verwendet und wann werden sie geerntet? Färbstoffe schlummern in vielen Pflanzen\, ohne dass es auf den ersten Blick sichtbar ist. Es sind nämlich meist nicht die bunten Blüten\, die wir zum Färben verwenden\, sondern Wurzeln\, Rinden\, Blätter oder Stiele. \nWir zeigen dir einige Varianten\, wie du Wolle und Stoffe mit natürlichen Farben versehen kannst und wie sie lichtecht\, waschecht und reibecht werden. Wir bereiten Stoffbezüge für Duftsäckli und kleine Kissen vor\, wenn du willst\, kannst du auch selbst etwas mitbringen zum färben. \nIn der Mittagspause wirst du mit einem schönen Wildkräuterbuffet  verwöhnt\, es wird einiges dabei sein\, das wir auch zum Färben nehmen. \n\nGast-Dozentin: Maya Schnyder – https://faszination-wildpflanzen.ch \n\nPreis\n150 CHF inkl. Getränke\, Mittagessen\, Zvieri und gefärbten Stoffsäckli oder Wolle \nKursleitung\nEvi Spycher\nMaya Schnyder
URL:https://natura-handwerk.ch/veranstaltung/faerben-mit-wildpflanzen/
LOCATION:Bahnstrasse 42 3008 Bern\, Bahnstrasse 42\, Bern\, Bern\, 3008
CATEGORIES:Kurse
ATTACH;FMTTYPE=image/jpeg:https://natura-handwerk.ch/wp-content/uploads/2024/02/kardwolle-pflanzengefaerbt-1-1-1536x864-1.jpg
END:VEVENT
BEGIN:VEVENT
DTSTART;VALUE=DATE:20240405
DTEND;VALUE=DATE:20240414
DTSTAMP:20260424T212933
CREATED:20240220T203459Z
LAST-MODIFIED:20240530T052559Z
UID:15631-1712275200-1713052799@natura-handwerk.ch
SUMMARY:Tage der offenen Tür mit Bonauer Relax-Betten
DESCRIPTION:Vom 05. April bis 13. April laden wir Sie gerne zum Besuch ein. Mit dabei ist auch wieder Bonauer Relax-Betten. \nAusserdem bieten wir; \n• Grosser Ausstellungsraum\n• Einblick in die Wollverarbeitung\n• Unsere Alpakas\, Lamas & Esel hautnah\n• Zu Gast bei uns: Bonauer Relax-Betten\n• Kaffee und Kuchen \nNatura- Handwerk: 10% Sonderrabatt auf alle Artikel ausgenommen bereits reduzierte Ware\nBonauer: Betten Aktionswoche\, attraktive Angebote für einen erholsamen Schlaf \n05. April bis 13. April 2024\nMontag – Samstag: 10:00 – 17:00 Uhr
URL:https://natura-handwerk.ch/veranstaltung/tage-der-offenen-tuer-mit-bonauer-relax-betten-2024/
LOCATION:Uebeschi bei Thun\, Lischen 75a\, Uebeschi\, Berner Oberland\, 3635\, Schweiz
CATEGORIES:Ausstellung
ATTACH;FMTTYPE=image/png:https://natura-handwerk.ch/wp-content/uploads/2022/12/Bonauer-logo.png
END:VEVENT
BEGIN:VEVENT
DTSTART;TZID=Europe/Zurich:20240103T100000
DTEND;TZID=Europe/Zurich:20240106T170000
DTSTAMP:20260424T212933
CREATED:20231214T201045Z
LAST-MODIFIED:20240530T052559Z
UID:15152-1704276000-1704560400@natura-handwerk.ch
SUMMARY:Tage der offenen Tür mit Bonauer Relax-Betten
DESCRIPTION:Auch dieses Jahr öffnen wir nach Weihnachten wieder unsere Türen.\nAb dem 03. Januar laden wir Sie gerne zum Besuch ein. Mit dabei ist auch wieder Bonauer Relax-Betten. \nAusserdem bieten wir; \n• Grosser Ausstellungsraum\n• Nadelfilzen für Gross und Klein\n• Unsere Alpakas\, Lamas & Esel hautnah\n• Zu Gast bei uns: Bonauer Relax-Betten\n• Kaffee und Kuchen \nNatura- Handwerk: 10% Sonderrabatt auf alle Artikel ausgenommen bereits reduzierte Ware\nBonauer: Betten Aktionswoche\, attraktive Angebote für einen erholsamen Schlaf \n27. – 30. Dezember & 03. – 06. Januar 2024\nMontag – Samstag: 10:00 – 17:00 Uhr
URL:https://natura-handwerk.ch/veranstaltung/tage-der-offenen-tuer-mit-bonauer-relax-betten/
LOCATION:Uebeschi bei Thun\, Lischen 75a\, Uebeschi\, Berner Oberland\, 3635\, Schweiz
CATEGORIES:Ausstellung
ATTACH;FMTTYPE=image/png:https://natura-handwerk.ch/wp-content/uploads/2022/12/Bonauer-logo.png
ORGANIZER;CN="Bonauer Relax Betten":MAILTO:gantrisch@karderei.ch
END:VEVENT
BEGIN:VEVENT
DTSTART;TZID=Europe/Zurich:20231227T100000
DTEND;TZID=Europe/Zurich:20231230T170000
DTSTAMP:20260424T212933
CREATED:20231214T120730Z
LAST-MODIFIED:20240530T052559Z
UID:15142-1703671200-1703955600@natura-handwerk.ch
SUMMARY:Tage der offenen Tür mit Bonauer Relax-Betten
DESCRIPTION:Auch dieses Jahr öffnen wir nach Weihnachten wieder unsere Türen.\nAb dem 27. Dezember laden wir Sie gerne zum Besuch ein. Mit dabei ist auch wieder Bonauer Relax-Betten. \nAusserdem bieten wir; \n• Grosser Ausstellungsraum\n• Nadelfilzen für Gross und Klein\n• Unsere Alpakas\, Lamas & Esel hautnah\n• Zu Gast bei uns: Bonauer Relax-Betten\n• Kaffee und Kuchen \nNatura- Handwerk: 10% Sonderrabatt auf alle Artikel ausgenommen bereits reduzierte Ware\nBonauer: Betten Aktionswoche\, attraktive Angebote für einen erholsamen Schlaf \n27. – 30. Dezember & 03. – 06. Januar 2024\nMontag – Samstag: 10:00 – 17:00 Uhr
URL:https://natura-handwerk.ch/veranstaltung/tage-der-offenen-tuer-fruehjahr-2024/
LOCATION:Uebeschi bei Thun\, Lischen 75a\, Uebeschi\, Berner Oberland\, 3635\, Schweiz
CATEGORIES:Ausstellung
ATTACH;FMTTYPE=image/png:https://natura-handwerk.ch/wp-content/uploads/2022/12/Bonauer-logo.png
ORGANIZER;CN="Natura-Handwerk":MAILTO:info@natura-handwerk.ch
END:VEVENT
BEGIN:VEVENT
DTSTART;VALUE=DATE:20231209
DTEND;VALUE=DATE:20231211
DTSTAMP:20260424T212933
CREATED:20230718T141132Z
LAST-MODIFIED:20240530T052559Z
UID:13603-1702080000-1702252799@natura-handwerk.ch
SUMMARY:Markt im Schloss Köniz
DESCRIPTION:
URL:https://natura-handwerk.ch/veranstaltung/markt-im-schloss-koeniz/
LOCATION:Schloss Köniz
CATEGORIES:Märit
ATTACH;FMTTYPE=image/jpeg:https://natura-handwerk.ch/wp-content/uploads/2020/09/Koeniz.jpg
END:VEVENT
BEGIN:VEVENT
DTSTART;TZID=Europe/Zurich:20231206T110000
DTEND;TZID=Europe/Zurich:20231223T180000
DTSTAMP:20260424T212933
CREATED:20230718T141758Z
LAST-MODIFIED:20240530T052559Z
UID:13605-1701860400-1703354400@natura-handwerk.ch
SUMMARY:Thuner Weihnachtsmarkt 2023
DESCRIPTION:Weihnachten im Herzen Thuns \n\n\nDas OK Weihnachtsmarkt Thun ist seit Anfang 2023 mit den Vorbereitungen für den nächsten Thuner Weihnachtsmarkt beschäftigt. Auch in diesem Jahr laden über 40 Stände zum Flanieren und Verweilen in der weihnachtlichen Thuner Innenstadt ein. \nDer Thuner Weihnachtsmarkt dauert 18 Tage – die Öffnungszeiten dehnt das OK nun erstmals aus: 11–20 Uhr und am Sonntag 11–18 Uhr. \nWir freuen uns auf zahlreiche Besucher in der Adventszeit.
URL:https://natura-handwerk.ch/veranstaltung/thuner-weihnachtsmarkt-2023/
LOCATION:Thun Weisenhausplatz\, Bälliz\, Thun\, 3600\, Schweiz
CATEGORIES:Märit
ATTACH;FMTTYPE=image/jpeg:https://natura-handwerk.ch/wp-content/uploads/2023/07/weihnachtsmaerit-2022.jpg
END:VEVENT
BEGIN:VEVENT
DTSTART;VALUE=DATE:20231102
DTEND;VALUE=DATE:20231106
DTSTAMP:20260424T212933
CREATED:20230718T135216Z
LAST-MODIFIED:20240530T052559Z
UID:13593-1698883200-1699228799@natura-handwerk.ch
SUMMARY:Neuland
DESCRIPTION:Immer wieder ein Highlight\, DIE Ausstellung im Berner Oberland.
URL:https://natura-handwerk.ch/veranstaltung/neuland-4/
LOCATION:Thun Expo
CATEGORIES:Ausstellung
ATTACH;FMTTYPE=image/jpeg:https://natura-handwerk.ch/wp-content/uploads/2023/07/neuland-19.jpg
ORGANIZER;CN="Neuland":MAILTO:info@thun-expo.ch
END:VEVENT
BEGIN:VEVENT
DTSTART;VALUE=DATE:20231027
DTEND;VALUE=DATE:20231028
DTSTAMP:20260424T212933
CREATED:20230718T134532Z
LAST-MODIFIED:20240530T052559Z
UID:13591-1698364800-1698451199@natura-handwerk.ch
SUMMARY:Frutigmärit
DESCRIPTION:Stehts am letzten Freitag im Oktober findet der traditionelle Frutigmärit statt. Dieser wird vom Handwerker – und Gewerbeverein organisiert. Viele Stände schmücken an diesem Tag die Dorfstrasse mitten in Frutigen.
URL:https://natura-handwerk.ch/veranstaltung/frutigmaerit-3/
LOCATION:Frutigen\, Flugplatz\, Frutigen\, Bern\, 3714\, Schweiz
CATEGORIES:Märit
ATTACH;FMTTYPE=image/jpeg:https://natura-handwerk.ch/wp-content/uploads/2023/07/Turtmann-2-2021.jpg
END:VEVENT
BEGIN:VEVENT
DTSTART;TZID=Europe/Zurich:20231014T090000
DTEND;TZID=Europe/Zurich:20231014T180000
DTSTAMP:20260424T212933
CREATED:20230718T140114Z
LAST-MODIFIED:20240530T052559Z
UID:13598-1697274000-1697306400@natura-handwerk.ch
SUMMARY:Märit bei Glauser's Bio-Baumschule
DESCRIPTION:
URL:https://natura-handwerk.ch/veranstaltung/maerit-bei-glausers-bio-baumschule/
LOCATION:3116 Noflen\, Limpachmatt 22\, Noflen\, 3116\, Schweiz
CATEGORIES:Märit
ATTACH;FMTTYPE=image/png:https://natura-handwerk.ch/wp-content/uploads/2023/07/glausers-bio-baumschule.png
ORGANIZER;CN="Glauser's Bio Baumschule":MAILTO:glauser@biobaumschule.ch
END:VEVENT
BEGIN:VEVENT
DTSTART;VALUE=DATE:20231012
DTEND;VALUE=DATE:20231023
DTSTAMP:20260424T212933
CREATED:20230721T103922Z
LAST-MODIFIED:20240530T052559Z
UID:13625-1697068800-1698019199@natura-handwerk.ch
SUMMARY:OLMA 2023
DESCRIPTION:Die grösste und beliebteste Publikumsmesse der Schweiz lädt vom 12. bis 22. Oktober 2023 zum 80. Mal zu einem farbenfrohen Volksfest ein. Wir freuen uns bereits jetzt auf abwechslungsreiche und spannende elf Messetage.
URL:https://natura-handwerk.ch/veranstaltung/olma-2023/
LOCATION:St.Gallen\, Splügenstrasse 12\, St.Gallen\, St. Gallen\, 9008\, Schweiz
CATEGORIES:Ausstellung
ATTACH;FMTTYPE=image/jpeg:https://natura-handwerk.ch/wp-content/uploads/2023/07/OLMA-19.jpg
ORGANIZER;CN="Olma":MAILTO:olma@olma-messen.ch
END:VEVENT
BEGIN:VEVENT
DTSTART;TZID=Europe/Zurich:20231004T080000
DTEND;TZID=Europe/Zurich:20231004T233000
DTSTAMP:20260424T212933
CREATED:20230718T135651Z
LAST-MODIFIED:20240530T052559Z
UID:13596-1696406400-1696462200@natura-handwerk.ch
SUMMARY:Wattenwil-Märit
DESCRIPTION:Der Wattenwil-Märit ist ein traditioneller Anlass und findet seit Jahren jeweils am ersten Mittwoch im Oktober statt. Rund 190 Marktfahrerinnen und Marktfahrer bieten im Herzen von Wattenwil die verschiedensten Waren zum Verkauf an. Zudem laden verschiedene Vereine zu einem gemütlichen Verweilen bis tief in die Nacht hinein ein. Der Wattenwil-Märit ist bis weit über die Gemeindegrenzen hinaus bekannt und viele Heimweh-Wattenwiler kehren jeweils am ersten Mittwoch im Oktober nach Wattenwil zurück. \nWattenwil Märit\nStart: 08:00 Uhr\nEnde: 03:30 Uhr\nAb 11:00 Uhr Festwirtschaft\nDer Jodlerklub singt um 13:00 und 14:30 Uhr.\nAb 20:00 Uhr übernimmt der Turnverein den Festbetrieb.
URL:https://natura-handwerk.ch/veranstaltung/wattenwil-maerit-2/
LOCATION:Wattenwil\, Dorfzentrum\, Wattenwil\, Bern\, 3665\, Schweiz
CATEGORIES:Märit
ATTACH;FMTTYPE=image/jpeg:https://natura-handwerk.ch/wp-content/uploads/2023/07/wattenwil-21.jpg
END:VEVENT
BEGIN:VEVENT
DTSTART;VALUE=DATE:20230930
DTEND;VALUE=DATE:20231001
DTSTAMP:20260424T212933
CREATED:20230718T134321Z
LAST-MODIFIED:20240530T052559Z
UID:13588-1696032000-1696118399@natura-handwerk.ch
SUMMARY:Turtmann Püru-märt
DESCRIPTION:
URL:https://natura-handwerk.ch/veranstaltung/turtmann-pueru-maert/
LOCATION:Turtmann\, Dorfzentrum\, Turtmann\, Wallis\, 3946\, Schweiz
CATEGORIES:Märit
ATTACH;FMTTYPE=image/jpeg:https://natura-handwerk.ch/wp-content/uploads/2023/07/turtmann-markt.jpg
END:VEVENT
BEGIN:VEVENT
DTSTART;TZID=Europe/Zurich:20230911T080000
DTEND;TZID=Europe/Zurich:20230911T170000
DTSTAMP:20260424T212933
CREATED:20230718T130201Z
LAST-MODIFIED:20240530T052600Z
UID:13578-1694419200-1694451600@natura-handwerk.ch
SUMMARY:Spiez-Märit
DESCRIPTION:Schlendern Sie gemütlich durch die Marktstände im Dorf und probieren Sie lokale Spezialitäten. \nWeit über 100 Markt- und Verpflegungsstände verwandeln das Spiezer Dorfzentrum in einen lebendigen Markt. Der Spiez Märit lockt jährlich zahlreiche Besucherinnen  und Besucher aus Nah und Fern sowie viele “Heimwehspiezer” an. Man trifft sich auf einen Schwatz\, tauscht Erinnerungen und Erlebnisse aus und deckt sich bei den unterschiedlichen Marktständen mit vielfältigen Produkten ein. \nAuch wir sind wieder vor Ort und bieten jede Menge zu sehen und kaufen.
URL:https://natura-handwerk.ch/veranstaltung/spiez-maerit/
LOCATION:Spiez\, Dorf\, Spiez\, Bern\, 3700\, Schweiz
CATEGORIES:Märit
ATTACH;FMTTYPE=image/jpeg:https://natura-handwerk.ch/wp-content/uploads/2022/04/Spiezmaerit.jpg
ORGANIZER;CN="Verein Spiezer L%C3%A4set Sunntig":MAILTO:info@laeset-spiez.ch
END:VEVENT
END:VCALENDAR